BEGIN:VCALENDAR
VERSION:2.0
PRODID:-//Caf&eacute; Meijerinliiteri - ECPv6.15.15//NONSGML v1.0//EN
CALSCALE:GREGORIAN
METHOD:PUBLISH
X-ORIGINAL-URL:https://www.cafemeijerinliiteri.fi
X-WR-CALDESC:Events for Caf&eacute; Meijerinliiteri
REFRESH-INTERVAL;VALUE=DURATION:PT1H
X-Robots-Tag:noindex
X-PUBLISHED-TTL:PT1H
BEGIN:VTIMEZONE
TZID:Europe/Helsinki
BEGIN:DAYLIGHT
TZOFFSETFROM:+0200
TZOFFSETTO:+0300
TZNAME:EEST
DTSTART:20170326T010000
END:DAYLIGHT
BEGIN:STANDARD
TZOFFSETFROM:+0300
TZOFFSETTO:+0200
TZNAME:EET
DTSTART:20171029T010000
END:STANDARD
BEGIN:DAYLIGHT
TZOFFSETFROM:+0200
TZOFFSETTO:+0300
TZNAME:EEST
DTSTART:20180325T010000
END:DAYLIGHT
BEGIN:STANDARD
TZOFFSETFROM:+0300
TZOFFSETTO:+0200
TZNAME:EET
DTSTART:20181028T010000
END:STANDARD
BEGIN:DAYLIGHT
TZOFFSETFROM:+0200
TZOFFSETTO:+0300
TZNAME:EEST
DTSTART:20190331T010000
END:DAYLIGHT
BEGIN:STANDARD
TZOFFSETFROM:+0300
TZOFFSETTO:+0200
TZNAME:EET
DTSTART:20191027T010000
END:STANDARD
END:VTIMEZONE
BEGIN:VEVENT
DTSTART;TZID=Europe/Helsinki:20180803T190000
DTEND;TZID=Europe/Helsinki:20180803T203000
DTSTAMP:20260421T151338
CREATED:20180503T192033Z
LAST-MODIFIED:20200410T195926Z
UID:1402-1533322800-1533328200@www.cafemeijerinliiteri.fi
SUMMARY:Suonteen Soitto - Jonna Tervomaa & Jussi Jaakonaho
DESCRIPTION:Elokuun alussa Jäähuoneessa kuullaan maamme eturivin laulaja-lauluntekijän Jonna Tervomaan ja kitaristi Jussi Jaakonahon musiikkia intiimillä duo-keikalla. \nTILAISUUS ON LOPPUUNVARATTU. VARATUT LIPUT TULEE LUNASTAA PE KLO 18.30 MENNESSÄ. PERUUTUSPAIKKOJA VOI TIEDUSTELLA OVELTA PERJANTAINA KLO 18.30 JÄLKEEN. \n*** \nLippuja voi varata etukäteen kahvilasta\, osoitteesta: info@cafemeijerinliiteri.fi tai p. 050-5489428. Liput konsertteihin 10 euroa. Jäähuoneeseen mahtuu rajallinen määrä kuulijoita\, joten varmistathan paikkasi varaamalla lippusi etukäteen. Tilaisuudessa on anniskeluoikeudet.
URL:https://www.cafemeijerinliiteri.fi/tapahtuma/jonna-tervomaa-jussi-jaakonaho/
LOCATION:Café Meijerinliiteri\, Kangasniementie 1052\, Joutsa\, 19650\, Finland
CATEGORIES:Konsertti
END:VEVENT
BEGIN:VEVENT
DTSTART;TZID=Europe/Helsinki:20180706T130000
DTEND;TZID=Europe/Helsinki:20180706T140000
DTSTAMP:20260421T151338
CREATED:20180407T132741Z
LAST-MODIFIED:20200410T195929Z
UID:1110-1530882000-1530885600@www.cafemeijerinliiteri.fi
SUMMARY:Suonteen Soitto - Päiväkahvit Martti Servon seurassa
DESCRIPTION:Joutsan Joutopäivien aikaan Meijerinliiterissä nautiskellaan päiväkahvit Martti Servo & Moods-viihdeduon säestyksellä. Martin matineakonsertissa kuullaan Napander-klassikoita duo-versioina. Konsertin aikana voi nauttia kahvilan suolaisia ja makeita herkkuja\, kahvin\, oluen tai viinilasillisen kera. \nLiput: 10 euroa. KONSERTTI ON LOPPUUNVARATTU\, PERUUTUSPAIKKOJA VOI TIEDUSTELLA KAHVILASTA TAPAHTUMAPÄIVÄNÄ KLO 12 ETEENPÄIN.  \n*** \nCafé Meijerinliiterin Jäähuoneella kuullaan kesän aikana elävää musiikkia ”Suonteen Soitto” -tapahtumissa. Tunnelmalliset konsertit tarjoavat elämyksiä niin paikallisille\, kesäasukkaille kuin kauempaakin matkaaville kesävieraille. \nLippuja voi varata etukäteen kahvilasta\, osoitteesta: info@cafemeijerinliiteri.fi tai p. 050-5489428. Liput konsertteihin 10 euroa. Jäähuoneessa on anniskeluoikeudet. \nSuonteen Soitto -konserttisarja 2018: \n\n6.7 klo 13 Martti Servo & Moods\n3.8 klo 19 Jonna Tervomaa & Jussi Jaakonaho\n25.8 klo 19 Fadonkorjuu: Kirsi Poutanen & Esa Helasvuo\n8.9 klo 19 Liiteritango: Maija Sydänmaanlakka & Ystävät\n\n 
URL:https://www.cafemeijerinliiteri.fi/tapahtuma/konserttikesa-2018-heinakuun-ilmaismatinea/
LOCATION:Café Meijerinliiteri\, Kangasniementie 1052\, Joutsa\, 19650\, Finland
CATEGORIES:Konsertti
ATTACH;FMTTYPE=image/jpeg:https://www.cafemeijerinliiteri.fi/wp-content/uploads/2018/04/Martti-öljyvärinä.jpg
END:VEVENT
END:VCALENDAR