BEGIN:VCALENDAR
VERSION:2.0
PRODID:-//Caf&eacute; Meijerinliiteri - ECPv6.15.15//NONSGML v1.0//EN
CALSCALE:GREGORIAN
METHOD:PUBLISH
X-ORIGINAL-URL:https://www.cafemeijerinliiteri.fi
X-WR-CALDESC:Events for Caf&eacute; Meijerinliiteri
REFRESH-INTERVAL;VALUE=DURATION:PT1H
X-Robots-Tag:noindex
X-PUBLISHED-TTL:PT1H
BEGIN:VTIMEZONE
TZID:Europe/Helsinki
BEGIN:DAYLIGHT
TZOFFSETFROM:+0200
TZOFFSETTO:+0300
TZNAME:EEST
DTSTART:20170326T010000
END:DAYLIGHT
BEGIN:STANDARD
TZOFFSETFROM:+0300
TZOFFSETTO:+0200
TZNAME:EET
DTSTART:20171029T010000
END:STANDARD
BEGIN:DAYLIGHT
TZOFFSETFROM:+0200
TZOFFSETTO:+0300
TZNAME:EEST
DTSTART:20180325T010000
END:DAYLIGHT
BEGIN:STANDARD
TZOFFSETFROM:+0300
TZOFFSETTO:+0200
TZNAME:EET
DTSTART:20181028T010000
END:STANDARD
BEGIN:DAYLIGHT
TZOFFSETFROM:+0200
TZOFFSETTO:+0300
TZNAME:EEST
DTSTART:20190331T010000
END:DAYLIGHT
BEGIN:STANDARD
TZOFFSETFROM:+0300
TZOFFSETTO:+0200
TZNAME:EET
DTSTART:20191027T010000
END:STANDARD
BEGIN:DAYLIGHT
TZOFFSETFROM:+0200
TZOFFSETTO:+0300
TZNAME:EEST
DTSTART:20200329T010000
END:DAYLIGHT
BEGIN:STANDARD
TZOFFSETFROM:+0300
TZOFFSETTO:+0200
TZNAME:EET
DTSTART:20201025T010000
END:STANDARD
BEGIN:DAYLIGHT
TZOFFSETFROM:+0200
TZOFFSETTO:+0300
TZNAME:EEST
DTSTART:20210328T010000
END:DAYLIGHT
BEGIN:STANDARD
TZOFFSETFROM:+0300
TZOFFSETTO:+0200
TZNAME:EET
DTSTART:20211031T010000
END:STANDARD
BEGIN:DAYLIGHT
TZOFFSETFROM:+0200
TZOFFSETTO:+0300
TZNAME:EEST
DTSTART:20220327T010000
END:DAYLIGHT
BEGIN:STANDARD
TZOFFSETFROM:+0300
TZOFFSETTO:+0200
TZNAME:EET
DTSTART:20221030T010000
END:STANDARD
END:VTIMEZONE
BEGIN:VEVENT
DTSTART;TZID=Europe/Helsinki:20210714T120000
DTEND;TZID=Europe/Helsinki:20210829T180000
DTSTAMP:20260421T133448
CREATED:20210512T080236Z
LAST-MODIFIED:20210708T081206Z
UID:2064-1626264000-1630260000@www.cafemeijerinliiteri.fi
SUMMARY:Galleria Jäähuone:        Suomen kuvakielen lyhin sana
DESCRIPTION:Galleria Jäähuoneen kesän toisena näyttelynä nähdään Alex Suomen\, Ilari Kähösen ja Tatiana Akimenkon yhteisnäyttely ”Suomen kuvakielen lyhin sana”. \nKalliopiirrokset sanallistetaan\, kun ei parempaakaan selitystä löydy. \nOlemmeko pääsemättömissä; irtiotto sanojen vankeudesta? \nKuvan edessä on mahdotonta olla tyhjänä ajatuksista ja ajattelemisesta. Testaa ja kokeile\, jo kaksitoista sekuntia tuottaa ylittämättömän vaikeuden. \nKeskikesän helteen keskellä riippakoivun vihreänraskaat lehdet niiaavat silmiesi edessä. \nJa toisaalla: taivaalla poutapilvien alla haarapääskyt livertelevät ilmaplanktonin perässä sitä pikkusuihinsa ahmien. \nMiten käy kuvakielen lyhyimmälle sanalle tänään\, tässä ja nyt? Se osoittaa vahvuutensa: Se on kuin sormi\, joka osoittaa kuuta.Tai ääni\, jonka yhden käden läpsähdys aiheuttaa. \nMetsän hiljaisuus\, kun korva on kadonnut. \n  \nAlex Suomen työskentely on havaintoon pohjautuvaa muovailua ja pronssiveistosten valamista. Mallimuovailun lisäksi teosten luomiseen vaikuttaa vahvasti halu tulkita surrealistista ja psykedeelistä kokemusta. ”Shamaanin kyky liikkua erilaisten maailmojen välillä ja nähdä asioita jotka ovat piilossa\ntoisenlaisessa tietoisuudessa kiehtoo minua”.  Pronssi materiaalina tukee veistosten sanomaa. \nIlari Kähönen on  keksinyt ja kehittänyt uuden piirrosmenetelmän nimeltään hierspiirros/hierspiirtäminen.  Sen ajatukselliset kumppanit löytyvät yli tuhatvuotisesta japanilaisesta puupiirrostraditiosta. Kähösen mukaan ”hierspiirrosprosessi on työläs\, aikaavievä ja ”suomalais”zeniläinen. Tämä ajassakihnurointi tekee siitä aivan erityisen työskentelymetodin”. \nTatiana Akimenkon taide perustuu eri ilmiöiden ja ihmisten välisten suhteiden tulkitsemiseen merkkien ja symbolien kautta. Hän käyttää teoksiensa valmistamiseen puuta\, keramiikkaa ja metallia. Usein yhdistelemällä kahta tai useampaa eri materiaalia. Aiheet kuten shakki tai labyrintti ovat olleet Tatianan teoksissa teemoina symboloimassa ihmisten välisiä suhteita. Luonnonvoimia kuvaavana teemana on usein Aurinko. Valon ja pimeyden välinen raja siirtyy pohjoisessa vuodenaikojen mukaan. Tällä ilmiöllä on vahva vaikutus Tatianan teoksiin. \nNäyttely on avoinna kahvilan aukioloaikojen mukaan KE-SU klo 12-18 elokuun 8. pvä saakka. Sen jälkeen elokuun viikonloput LA-SU klo 12-18.  Näyttelyyn on vapaa pääsy.
URL:https://www.cafemeijerinliiteri.fi/tapahtuma/alex-suomi-ilari-kahonen-tatiana-akimenko/
LOCATION:Café Meijerinliiteri\, Kangasniementie 1052\, Joutsa\, 19650\, Finland
CATEGORIES:Näyttelyt
ATTACH;FMTTYPE=image/jpeg:https://www.cafemeijerinliiteri.fi/wp-content/uploads/2021/05/Tatiana-Akimenko-02.jpg
ORGANIZER;CN="Caf%C3%A9 Meijerinliiteri":MAILTO:info@cafemeijerinliiteri.fi
END:VEVENT
BEGIN:VEVENT
DTSTART;TZID=Europe/Helsinki:20210619T120000
DTEND;TZID=Europe/Helsinki:20210619T170000
DTSTAMP:20260421T133448
CREATED:20210517T070707Z
LAST-MODIFIED:20210517T070707Z
UID:2079-1624104000-1624122000@www.cafemeijerinliiteri.fi
SUMMARY:Pihakirppis
DESCRIPTION:Café Meijerinliiterin ensimmäinen pihakirppistapahtuma järjestetään lauantaina 19.6. klo 12-17 kahvilan piha-alueella. Kirppikselle voi tulla myymään varaamalla myyntipaikan 16.6. mennessä sähköpostitse: info@cafemeijerinliiteri.fi. Myyntipaikat täytetään ilmoittautumisjärjestyksessä. Tarjolla pöytäpaikkoja (10 e/pvä) ja ”vilttipaikkoja” nurtsilla (5 e/pvä).\n\nTervetuloa viettämään kivaa kesäpäivää kirppistelyn merkeissä\, pistetään tavarat kiertoon! Tapahtumalla on säävaraus.\n\n(Aluehallintoviraston tämän hetkisten ohjeistuksen mukaan yli 50 henkilön tilaisuuksia voidaan järjestää\, mikäli pystytään huolehtimaan turvaväleistä. Tämän vuoksi koordinoimme myyjien määrää varmistaaksemme tarvittavat turvavälit.)
URL:https://www.cafemeijerinliiteri.fi/tapahtuma/pihakirppis/
LOCATION:Café Meijerinliiteri\, Kangasniementie 1052\, Joutsa\, 19650\, Finland
CATEGORIES:kirppis,Kirpputori,pihakirppis
ATTACH;FMTTYPE=image/jpeg:https://www.cafemeijerinliiteri.fi/wp-content/uploads/2021/05/InstagramCapture_91d0b8e9-06f7-4432-a560-f20376c24ef9.jpg
ORGANIZER;CN="Caf%C3%A9 Meijerinliiteri":MAILTO:info@cafemeijerinliiteri.fi
END:VEVENT
BEGIN:VEVENT
DTSTART;TZID=Europe/Helsinki:20210609T120000
DTEND;TZID=Europe/Helsinki:20210711T180000
DTSTAMP:20260421T133448
CREATED:20210423T084420Z
LAST-MODIFIED:20210423T084420Z
UID:2049-1623240000-1626026400@www.cafemeijerinliiteri.fi
SUMMARY:Laura Hokkanen & Janne Saarinen: Paratiisi
DESCRIPTION:Laura Hokkanen ja Janne Saarinen: Paratiisi\n9.6.-11.7.2021 \nGalleria Jäähuone / Café Meijerinliiteri \nJuhlat ovat jatkuneet jo vuosia. Ulkoa tunkeva sirinä kovenee päivä päivältä. Olemme piilotelleet niin kauan. Ehkä kaikki sittenkin loppuu tänne\, marmoriseen luolaamme\, jossa silkki\, viini ja kultaiset reunat ovat muuttuneet pelkäksi jätteeksi. \nNäyttelyssä Saarisen maalaukselliset ja synkät kuvat tulevaisuudesta yhdistyvät Hokkasen vinksahtaneisiin\, jopa humoristisiin töihin\, sulauttaen kaksi erilaista todellisuutta yhdeksi uudeksi. \nLaura Hokkanen (s.1997 Konnevesi) on Kankaanpään taidekoulussa neljättä vuotta opiskeleva taiteilija.\nJanne Saarinen (s.1995 Suolahti) on Lapin ammattikorkeakoulusta valmistunut kuvataiteilija. \nNäyttely on avoinna kahvilan aukioloaikojen mukaan KE-SU klo 12-18. Näyttelyyn on vapaa pääsy. \n  \n 
URL:https://www.cafemeijerinliiteri.fi/tapahtuma/laura-hokkanen-janne-saarinen-paratiisi/
LOCATION:Café Meijerinliiteri\, Kangasniementie 1052\, Joutsa\, 19650\, Finland
CATEGORIES:Näyttelyt
ATTACH;FMTTYPE=image/jpeg:https://www.cafemeijerinliiteri.fi/wp-content/uploads/2021/04/Laura-Hokkanen-KYLMÄ-ILTA.jpg
ORGANIZER;CN="Caf%C3%A9 Meijerinliiteri":MAILTO:info@cafemeijerinliiteri.fi
END:VEVENT
BEGIN:VEVENT
DTSTART;TZID=Europe/Helsinki:20201205T110000
DTEND;TZID=Europe/Helsinki:20201206T200000
DTSTAMP:20260421T133448
CREATED:20201116T090910Z
LAST-MODIFIED:20201202T094043Z
UID:2012-1607166000-1607284800@www.cafemeijerinliiteri.fi
SUMMARY:Talvikahvila
DESCRIPTION:TALVIKAHVILA -TAPAHTUMA ON PERUTTU  AVI:lta tulleiden tiukentuneiden kokoontumisrajoitusten vuoksi. Pyrimme järjestämään tapahtuman uudelleen alkutalvesta 2021 koronatilanteen niin salliessa.\n\n**************************************************\n\nCafé Meijerinliiteri herää hetkeksi talviuniltaan ja puhaltaa jouluntuoksuisen hengen Myllykosken vanhaan myllyyn. Tarjolla on kuumia\, Meijerinliiterin omalla reseptillä valmistettuja talvijuomia sekä lähiraaka-aineista leivottuja suussasulavia herkkuja.\n\nCafé Meijerinliiterin pop up-talvikahvilan valomaailman loihtii Taidelaitos Haihatuksen tirehtööri Risto Puurunen.\n\nTalvikahvila on avoinna LA-SU 5. – 6.12.2020 klo 11-20 Joutsan Myllykosken vanhassa myllyrakennuksessa.\n\n\nTalvikahvila on osa Joutsan joulupolku -tapahtumaa http://www.facebook.com/events/419699802371834 ja avoinna myös itsenäisyyspäivän kahvittelijoille ja juhlamaljain kilistelijöille! \n\n\n 
URL:https://www.cafemeijerinliiteri.fi/tapahtuma/talvikahvila/
CATEGORIES:pop up talvikahvila
ATTACH;FMTTYPE=image/jpeg:https://www.cafemeijerinliiteri.fi/wp-content/uploads/2020/11/Jäätynyt-lasi.jpg
ORGANIZER;CN="Caf%C3%A9 Meijerinliiteri":MAILTO:info@cafemeijerinliiteri.fi
END:VEVENT
BEGIN:VEVENT
DTSTART;TZID=Europe/Helsinki:20200715T120000
DTEND;TZID=Europe/Helsinki:20200904T180000
DTSTAMP:20260421T133448
CREATED:20200705T102339Z
LAST-MODIFIED:20200814T082757Z
UID:1972-1594814400-1599242400@www.cafemeijerinliiteri.fi
SUMMARY:Keijometsän kansa
DESCRIPTION:Minja Karoliina Laakso: Keijometsän kansa 15.7.-4.9.2020 Galleria Jäähuone\nJoukko vapaita\, rohkeita ja elämäntäyteisiä hahmoja kokoontuu yhteen. Keijot ja Kaijat sulassa sovussa. Iloa\, riemua\, elämää ja juhlaa. \n”Maalauksissani käsittelen sekä pääni sisäistä\, että ulkoista maailmaa huumorin kautta. Maalausprosessini on hyvin intuitiivista\, ekspressiivistä ja usein nopeatempoista. Pidän leikittelystä maaliaineiden materiaalisuudella\, yhdistäen ohuita kerroksia paksuun massaan. Tällä hetkellä maalaan suoraan kankaalle sellaisenaan ilman rimoja. Minusta on kiehtovaa miten maalaus on kuin seinävaate ilman rimoihin pingotettua jäykkyyttä. Maalausteni kautta haluan antaa katsojalle uskoa siitä\, ettei taiteen tarvitse olla niin vakavaa\, vaikka sitä tekeekin tosissaan.” \nMinja Karoliina Laakso (s.1988) on vastavalmistunut kuvataiteilija LAB- ammattikorkeakoulusta. Hän asuu ja työskentelee Helsingissä. Näyttely koostuu isoista öljyvärimaalauksista\, sekä pienemmistä sekatekniikka maalauksista. \n\nTaiteilija tavattavissa Gallerialla lauantaina 15.8. klo 12-16\, tervetuloa juttelemaan!
URL:https://www.cafemeijerinliiteri.fi/tapahtuma/keijometsan-kansa/
LOCATION:Café Meijerinliiteri\, Kangasniementie 1052\, Joutsa\, 19650\, Finland
CATEGORIES:Näyttelyt
ATTACH;FMTTYPE=image/jpeg:https://www.cafemeijerinliiteri.fi/wp-content/uploads/2020/07/Keijometsän-kansa-1-scaled.jpg
ORGANIZER;CN="Caf%C3%A9 Meijerinliiteri":MAILTO:info@cafemeijerinliiteri.fi
END:VEVENT
BEGIN:VEVENT
DTSTART;VALUE=DATE:20200617
DTEND;VALUE=DATE:20200713
DTSTAMP:20260421T133448
CREATED:20180407T133234Z
LAST-MODIFIED:20200630T162458Z
UID:1112-1592352000-1594598399@www.cafemeijerinliiteri.fi
SUMMARY:Anu Riestola ja Maija Vanhatapio: Valosta ja pimeästä
DESCRIPTION:Anu Riestola: ”Kohti aurinkoa”\, 2020\, akryyli ja öljy levylle\, 100 x 100 cm \n\n\n\nAnu Riestola ja Maija Vanhatapio: Valosta ja pimeästä 17.6.-12.7.2020\n‘Valosta ja pimeästä’ yhdistää Maija Vanhatapion abstrahoituja maisemamaalauksia Anu Riestolan luonnon ja ihmisen välistä suhdetta kuvaaviin maalauksiin. Teoksissa hienovaraisuus nivoutuu vahvaan pohjoisen voimaan. \nTaidemaalari Anu Riestola on Kemissä asuva Lapin taiteilijaseuran jäsen. Kuvataiteilija ja graafikko Maija Vanhatapio on Kajaanissa asuva ja työskentelevä Oulun taiteilijaseura 63:n jäsen. Heitä yhdistävät yli 10 vuoden ajalta työskentelytapojen keskinäinen tuntemus ja luottamus toisen tekemisen prosessiin. \nLisätietoja: Inka-Maaria Jurvanen\, jurvaneninkamaaria@gmail.com \nNäyttelyn avajaisia vietetään keskiviikkona 17.6.\, taiteilijat tavattavissa klo 12-16\, tervetuloa! \n****************************************************************************************** \nCafé Meijerinliiterin rouhea taidegalleria\, Galleria Jäähuone\, sijaitsee vuonna 1912 rakennetussa kivinavetassa. Galleriasta avautuu suorastaan kansallisromanttinen näkymä koivumetsään ja näyttelyiden taustaäänenä kuullaankin lintujen iloista sekakuoromusiikkia. Galleria on avoinna kahvilan aukioloaikojen mukaan KE – SU klo 12-18. Näyttelyihin on vapaa pääsy. \n\nGalleria Jäähuoneen näyttelytoimintaa kuratoi kuvataiteilija Inka-Maaria Jurvanen. Galleria Jäähuone sijaitsee Café Meijerinliiterissä\, osoitteessa Kangasniementie 1052\, Joutsa. \n 
URL:https://www.cafemeijerinliiteri.fi/tapahtuma/galleria-jaahuone/
LOCATION:Café Meijerinliiteri\, Kangasniementie 1052\, Joutsa\, 19650\, Finland
CATEGORIES:Näyttelyt
ATTACH;FMTTYPE=image/jpeg:https://www.cafemeijerinliiteri.fi/wp-content/uploads/2018/04/Kohti-aurinkoa.jpg
END:VEVENT
BEGIN:VEVENT
DTSTART;TZID=Europe/Helsinki:20200410T000000
DTEND;TZID=Europe/Helsinki:20200410T000000
DTSTAMP:20260421T133448
CREATED:20200410T195934Z
LAST-MODIFIED:20200410T195934Z
UID:1635-1586476800-1586476800@www.cafemeijerinliiteri.fi
SUMMARY:Kesän 2018 muistoja
DESCRIPTION:
URL:https://www.cafemeijerinliiteri.fi/tapahtuma/kesan-2018-muistoja/
LOCATION:Café Meijerinliiteri\, Kangasniementie 1052\, Joutsa\, 19650\, Finland
END:VEVENT
BEGIN:VEVENT
DTSTART;TZID=Europe/Helsinki:20190907T190000
DTEND;TZID=Europe/Helsinki:20190907T203000
DTSTAMP:20260421T133448
CREATED:20190331T083958Z
LAST-MODIFIED:20190912T202605Z
UID:1685-1567882800-1567888200@www.cafemeijerinliiteri.fi
SUMMARY:Syyslaulu
DESCRIPTION:Café Meijerinliiterin oma ensemble kutsuu ystävät ja kylänmiehet koolle kauden päätöskonsertissa lauantaina 7.9.2019. Laulava kahvinkeittäjä\, Café Meijerinliiterin emäntä Maija Sydänmaanlakka nousee estradille yhdessä muusikkoystäviensä kanssa. Luvassa matkalaukullinen laulelmia ja teatterimusiikkia\, hyvää viiniä\, kynttilöitä\, naurua\, itkua\, lämmintä yhdessäoloa hämärtyvässä syysillassa. \nEsiintyjät: \nMaija Sydänmaanlakka – laulu \nHeljä Heikkinen – laulu \nUlriikka Heikinheimo – viulu\, laulu \nAnu Silvasti – piano \nKONSERTTI ON LOPPUUNMYYTY! \nJäähuoneessa on tunnelmaa!\nSuonteen soitto -konsertit järjestetään Café Meijerinliiterin Jäähuoneella.\n 
URL:https://www.cafemeijerinliiteri.fi/tapahtuma/syyslaulu/
LOCATION:Café Meijerinliiteri\, Kangasniementie 1052\, Joutsa\, 19650\, Finland
CATEGORIES:Konsertti,Musiikki
ATTACH;FMTTYPE=image/jpeg:https://www.cafemeijerinliiteri.fi/wp-content/uploads/2018/04/pianon-koskettimet.jpg
END:VEVENT
BEGIN:VEVENT
DTSTART;TZID=Europe/Helsinki:20190823T200000
DTEND;TZID=Europe/Helsinki:20190823T213000
DTSTAMP:20260421T133448
CREATED:20190331T085830Z
LAST-MODIFIED:20190820T062915Z
UID:1688-1566590400-1566595800@www.cafemeijerinliiteri.fi
SUMMARY:Anssi Kela
DESCRIPTION:Elokuussa 2019 Jäähuoneen estradille nousee mies kitara kainalossaan. Eikä mikä tahansa mies olekaan. Anssi Kela soolona Café Meijerinliiterin Suonteen Soitto -kesäkonsertin tähtenä 23.8. 2019 klo 20. \nKONSERTTI ON LOPPUUNMYYTY. Lippuja ei ole enää saatavilla. Ovet avataan konsertti-iltana klo 19. Huomioithan\, että tila on lämmittämätön ”kesätila”\, joten pukeutuminen sään mukaan! \nLiput: 15/10 euroa. Lisätiedot: Info@cafemeijerinliiteri.fi / puh. 050-5489428 \n  \n*Suonteen Soitto -konsertteja on tukenut Musiikin edistämissäätiö MES.
URL:https://www.cafemeijerinliiteri.fi/tapahtuma/anssi-kela/
LOCATION:Café Meijerinliiteri\, Kangasniementie 1052\, Joutsa\, 19650\, Finland
CATEGORIES:Konsertti
ATTACH;FMTTYPE=image/png:https://www.cafemeijerinliiteri.fi/wp-content/uploads/2019/03/Anssi-Kela.png
END:VEVENT
BEGIN:VEVENT
DTSTART;TZID=Europe/Helsinki:20190718T190000
DTEND;TZID=Europe/Helsinki:20190718T203000
DTSTAMP:20260421T133448
CREATED:20190331T081709Z
LAST-MODIFIED:20190412T161417Z
UID:1680-1563476400-1563481800@www.cafemeijerinliiteri.fi
SUMMARY:Tango-orkesteri Unto
DESCRIPTION:Modernin tangon tunteen paloa! Tango-orkesteri Unton virtuoosit nostavat suomitangon uusiin ulottuvuuksiin konsertissa\, jossa soivat rinta rinnan rakastetut klassikot ja runoudesta innoituksensa saaneet uudet tangot. Luvassa on vahva ja vivahteikas kokonaisuus\, jonka ytimessä on suomalaisen tangon runollisuus\, kaipausta ja intohimoa unohtamatta. \nPirjo Aittomäki\, laulu\nTimo Alakotila\, piano\nJohanna Juhola\, harmonikka\nHannu Rantanen\, kontrabasso \nLiput: 15/10 euroa. Lippuvaraukset: info@cafemeijerinliiteri.fi / puh. 050-5489428 \n 
URL:https://www.cafemeijerinliiteri.fi/tapahtuma/tango-orkesteri-unto/
LOCATION:Café Meijerinliiteri\, Kangasniementie 1052\, Joutsa\, 19650\, Finland
CATEGORIES:Konsertti
ATTACH;FMTTYPE=image/jpeg:https://www.cafemeijerinliiteri.fi/wp-content/uploads/2019/03/Tango-orkesteri-Unto.jpg
END:VEVENT
BEGIN:VEVENT
DTSTART;TZID=Europe/Helsinki:20190705T140000
DTEND;TZID=Europe/Helsinki:20190705T151500
DTSTAMP:20260421T133448
CREATED:20190331T103913Z
LAST-MODIFIED:20190704T105515Z
UID:1700-1562335200-1562339700@www.cafemeijerinliiteri.fi
SUMMARY:Joutopäiväkahvit Tapio Liinojan ja Olli Ahvenlahden seurassa: Juntti ja stadin kundi
DESCRIPTION:TILAISUUS ON LOPPUUNMYYTY\, LIPPUJA EI MYYDÄ ENÄÄ OVELTA. \nKurvaa Café Meijerinliiterin kautta matkallasi Joutsan Joutopäiville! Joutopäiväperjantaina Café Meijerinliiterin Jäähuoneella vierailee Tapio Liinojan ja Olli Ahvenlahden musiikkiteatteriesitys ”Juntti ja stadin kundi”. \nOlli Ahvenlahti on neljännen polven helsinkiläinen\, stadin kundi. Tapio Liinoja on neljännen polven maalainen\, juntti. Esityksessä kisataan leikin päin maaseudun ja kaupungin kesken. Laulut ja jutut käyvät Kolmannelta linjalta ahonlaitaan ja takaisin. \n– Olli nyt on tämä stadin kundi\, vaikka näyttää meistä enemmän juntilta\, sanoo Tapio. Helsingin Kallion polttava kesäkatujen asfaltti sekoittuu Vampulan salaojitettujen peltojen ja sikaloiden pistävään tuoksuun… \nParivaljakko kertoo lauluissa ja stooreissa myös  sukutaustoistaan. ”Mun esi-isäni tulivat Helsinkiin hevospelillä Volgan varrelta Jaroslavista vuonna 1865”\, kertoo Olli. ”Mun äidin puolen suku tuli samaan aikaan Ruotsista Turun seudulle”\, sanoo Tapio. \nLetkeä punssi kohtaa ärhäkän vodkan ja duuri mollin. Kuullaan myös kielikylpy\, jossa stadin slangi kääntyy suomeksi… \n– Meidän kahden maahanmuuttajataustaisen kotouttaminen on vielä vahvasti käynnissä\, sanovat Ahvenlahti ja Liinoja. \n© Juntti ja Stadin kundi -esityksessä kuullaan lauluja mm. Lapinlahden Linnuilta ja duon aiemmilta konserttikiertueilta Mainio Juha Vainio ja Tapio Rautavaara – Sininen uni. \n  \nTapio Liinoja – laulu \, Olli Ahvenlahti – piano. Esityksen kesto noin 75 minuuttia.  \nLiput: 15/10 euroa. Lippuvaraukset: info@cafemeijerinliiteri.fi tai puh. 050-5489428. \n  \nJoutsan Joutopäivien 5.-7.7.2019 virallinen ohjelma löytyy täältä: https://www.joutsa.fi/jouto/2018/12/28/joutopaivat-2019/
URL:https://www.cafemeijerinliiteri.fi/tapahtuma/joutopaivakahvit-meijerinliiterissa/
LOCATION:Café Meijerinliiteri\, Kangasniementie 1052\, Joutsa\, 19650\, Finland
CATEGORIES:Musiikki,Teatteri
ATTACH;FMTTYPE=image/jpeg:https://www.cafemeijerinliiteri.fi/wp-content/uploads/2019/03/Ahvenlahti_Liinoja_1.jpg
END:VEVENT
BEGIN:VEVENT
DTSTART;TZID=Europe/Helsinki:20190623T140000
DTEND;TZID=Europe/Helsinki:20190623T160000
DTSTAMP:20260421T133448
CREATED:20180503T101921Z
LAST-MODIFIED:20190331T073517Z
UID:1351-1561298400-1561305600@www.cafemeijerinliiteri.fi
SUMMARY:Meijerinliiterin Mittumaari
DESCRIPTION:Juhannuksen jälkilöylyt Café Meijerinliiterissä! Tervetuloa viettämään kiireetöntä juhannussunnuntaita vieraanamme. Kahvilan antimia voi nautiskella pitkin perinnepihaa\, vetäytyä aitan hiljaisuuteen\, siemailla kahvia mummin ruusukupeista pihakoivun alla…jokaiselle löytyy oloon ja tunnelmaan sopiva soppi. Tarjolla suolaisia ja makeita keskikesän herkkuja kahvin tai vaikkapa raikkaan Rosé-lasillisen kera. \nIltapäiväkahvien taustalla soi elävä musiikki ja saattaapa keittiöstä kajahtaa emännän laulukin. Tervetuloa nauttimaan! \nP.S. Meijerinliiteri on avoinna koko juhannuksen ajan klo 12-18!
URL:https://www.cafemeijerinliiteri.fi/tapahtuma/juhannuksen-jalkiloylyt-kesaista-musiikkia-meijerinliiterissa/
LOCATION:Café Meijerinliiteri\, Kangasniementie 1052\, Joutsa\, 19650\, Finland
CATEGORIES:Konsertti
ATTACH;FMTTYPE=image/jpeg:https://www.cafemeijerinliiteri.fi/wp-content/uploads/2018/04/Juhannusruusut-ja-kakku.jpg
ORGANIZER;CN="Caf%C3%A9 Meijerinliiteri":MAILTO:info@cafemeijerinliiteri.fi
END:VEVENT
BEGIN:VEVENT
DTSTART;TZID=Europe/Helsinki:20190608T190000
DTEND;TZID=Europe/Helsinki:20190608T203000
DTSTAMP:20260421T133448
CREATED:20190331T101929Z
LAST-MODIFIED:20190608T100928Z
UID:1694-1560020400-1560025800@www.cafemeijerinliiteri.fi
SUMMARY:Kesäkauden avajaiset: Martti Servo kolmistaan!
DESCRIPTION:KONSERTTI ON LOPPUUNMYYTY. OVELTA EI MYYDÄ ENÄÄ LIPPUJA. \nCafé Meijerinliiterin kesäkausi korkataan Martti Servon seurassa lauantaina 8.6. klo 19. Tuli taivaalta räntää tahi rakeita\, Servon seuroissa paistaa aina aurinko! \n\nViime kesänä Café Meijerinliiterin Jäähuoneella saatiin nauttia Martti Servo & Moods-\nviihdeduon antimista. Tänä kesänä Martti palaa estradille entistä\nmuhkeampana – triona. Yhdessä kitaristi Mauno Tiiran ja basisti Erkka\nAlosen kanssa Martti esittää laajan valikoiman lauluja aiempaa\nherkemmällä otteella. ”Kun rummut ja urut puuttuvat\, pauke vähenee\,\nmutta intensiteetti kasvaa”\, muotoilee basisti Erkka Alonen.\n\n\nIltamiin on tarjolla yhteiskuljetus Unto Lehtosen bussilla: lähtö klo 18.15 Joutsan Matkahuollon edestä – paluu Meijerinliiteristä NOIN klo 20.30. Edestakainen matka 10 e. Kyytiin mahtuu ja lippujakin Servon seuroihin on vielä muutamia jäljellä. Lämpimästi tervetuloa!\n\nMartin & poikien keikan jälkeen Jäähuoneen baari auki klo 23 saakka.\n\n\nLiput: 15/10 euroa. Info@cafemeijerinliiteri.fi / puh. 050-5489428.
URL:https://www.cafemeijerinliiteri.fi/tapahtuma/kesakauden-avajaiset/
LOCATION:Café Meijerinliiteri\, Kangasniementie 1052\, Joutsa\, 19650\, Finland
CATEGORIES:Konsertti
ATTACH;FMTTYPE=image/jpeg:https://www.cafemeijerinliiteri.fi/wp-content/uploads/2019/03/Mara-ja-mikki.jpg
END:VEVENT
BEGIN:VEVENT
DTSTART;TZID=Europe/Helsinki:20180907T200000
DTEND;TZID=Europe/Helsinki:20180907T213000
DTSTAMP:20260421T133448
CREATED:20180503T191709Z
LAST-MODIFIED:20200410T195916Z
UID:1398-1536350400-1536355800@www.cafemeijerinliiteri.fi
SUMMARY:Suonteen Soitto: Liiteritango
DESCRIPTION:Syyskuun Suonteen Soitto -konsertissa estradille nousevat laulava kahvinkeittäjä\, laulaja-näyttelijä Maija Sydänmaanlakka & Ystävät. Luvassa tangoa Joutsasta Buenos Airesiin\, laulelmia ja teatterimusiikkia. Lavalla musiikkiteatterin ammattilaisia\, joiden laaja repertuaari läikähtelee yli kuulijoiden iloksi. Tervetuloa nauttimaan pimenevistä syysilloista lyhtyjen ja kynttilöiden valossa\, ainutlaatuisessa konserttimiljöössä. Esiintyjät: Maija Sydänmaanlakka (laulu)\, Tuula Penttilä (laulu\, viulu)\, Martina Roos (laulu) ja Marko Puro (piano). \nSyyskuussa Jäähuoneella voi olla jo syksyisen vilakkaa\, joten konserttiyleisöä pyydetään pukeutumaan sään mukaan. Bar Jäähuoneessa tarjolla myös vilttejä ja lämmittäviä juomia. Liiteritango -konsertti päättää Café Meijerinliiterin kesäkauden. \n*** \nLippuja voi varata etukäteen osoitteesta: info@cafemeijerinliiteri.fi tai p. 050-5489428. Liput konsertteihin 10 euroa. Jäähuoneeseen mahtuu rajallinen määrä kuulijoita\, joten varmistathan paikkasi varaamalla lippusi etukäteen. Tilaisuuksissa on anniskeluoikeudet. PÄIVITYS 7.9: KONSERTTI ON LOPPUUNMYYTY\, OVELTA EI VALITETTAVASTI MYYDÄ ENÄÄ LIPPUJA.
URL:https://www.cafemeijerinliiteri.fi/tapahtuma/liiteritango/
LOCATION:Café Meijerinliiteri\, Kangasniementie 1052\, Joutsa\, 19650\, Finland
CATEGORIES:Konsertti
ATTACH;FMTTYPE=image/jpeg:https://www.cafemeijerinliiteri.fi/wp-content/uploads/2018/05/Liiteritango-kuva.jpg
END:VEVENT
BEGIN:VEVENT
DTSTART;TZID=Europe/Helsinki:20180825T190000
DTEND;TZID=Europe/Helsinki:20180825T203000
DTSTAMP:20260421T133448
CREATED:20180503T192924Z
LAST-MODIFIED:20200410T195920Z
UID:1406-1535223600-1535229000@www.cafemeijerinliiteri.fi
SUMMARY:Suonteen Soitto - Fadonkorjuu
DESCRIPTION:Portugalilaisista fadolauluistaan tunnettu Kirsi Poutanen ja säveltäjä-pianisti Esa Helasvuo tarjoilevat fadon sielukasta valoa elokuun illassa. Maaginen fadosielu taipuu Helasvuon improvisaatioiden virroissa ulottuvuuksiin\, joissa yllättävät musiikilliset ja kulttuuriset energiat ruokkivat toisiaan. \nPortugalin\, suomen- \, ja karjalankieli helisevät fadovirrassa toisistaan voimaa ammentaen. Kirsi Poutanen tunnetaan paitsi laulajana myös runoilijana ja näyttelijänä. Säveltäjä-pianisti Esa Helasvuo on tehnyt merkittävän uran teatteri-\, elokuva- ja jazzmusiikin saralla. \n*** \nLippuja voi varata etukäteen kahvilasta\, osoitteesta: info@cafemeijerinliiteri.fi tai p. 050-5489428. Liput konsertteihin 10 euroa. Jäähuoneeseen mahtuu rajallinen määrä kuulijoita\, joten varmistathan paikkasi varaamalla lippusi etukäteen. Tilaisuudessa on anniskeluoikeudet. \n 
URL:https://www.cafemeijerinliiteri.fi/tapahtuma/fadonkorjuu-kirsi-poutanen-ja-esa-helasvuo/
LOCATION:Café Meijerinliiteri\, Kangasniementie 1052\, Joutsa\, 19650\, Finland
CATEGORIES:Konsertti
ATTACH;FMTTYPE=image/jpeg:https://www.cafemeijerinliiteri.fi/wp-content/uploads/2018/05/Kirsi-Poutanen-ja-Esa-Helasvuo-kuva-1jpg.jpg
END:VEVENT
BEGIN:VEVENT
DTSTART;TZID=Europe/Helsinki:20180803T190000
DTEND;TZID=Europe/Helsinki:20180803T203000
DTSTAMP:20260421T133448
CREATED:20180503T192033Z
LAST-MODIFIED:20200410T195926Z
UID:1402-1533322800-1533328200@www.cafemeijerinliiteri.fi
SUMMARY:Suonteen Soitto - Jonna Tervomaa & Jussi Jaakonaho
DESCRIPTION:Elokuun alussa Jäähuoneessa kuullaan maamme eturivin laulaja-lauluntekijän Jonna Tervomaan ja kitaristi Jussi Jaakonahon musiikkia intiimillä duo-keikalla. \nTILAISUUS ON LOPPUUNVARATTU. VARATUT LIPUT TULEE LUNASTAA PE KLO 18.30 MENNESSÄ. PERUUTUSPAIKKOJA VOI TIEDUSTELLA OVELTA PERJANTAINA KLO 18.30 JÄLKEEN. \n*** \nLippuja voi varata etukäteen kahvilasta\, osoitteesta: info@cafemeijerinliiteri.fi tai p. 050-5489428. Liput konsertteihin 10 euroa. Jäähuoneeseen mahtuu rajallinen määrä kuulijoita\, joten varmistathan paikkasi varaamalla lippusi etukäteen. Tilaisuudessa on anniskeluoikeudet.
URL:https://www.cafemeijerinliiteri.fi/tapahtuma/jonna-tervomaa-jussi-jaakonaho/
LOCATION:Café Meijerinliiteri\, Kangasniementie 1052\, Joutsa\, 19650\, Finland
CATEGORIES:Konsertti
END:VEVENT
BEGIN:VEVENT
DTSTART;TZID=Europe/Helsinki:20180706T130000
DTEND;TZID=Europe/Helsinki:20180706T140000
DTSTAMP:20260421T133448
CREATED:20180407T132741Z
LAST-MODIFIED:20200410T195929Z
UID:1110-1530882000-1530885600@www.cafemeijerinliiteri.fi
SUMMARY:Suonteen Soitto - Päiväkahvit Martti Servon seurassa
DESCRIPTION:Joutsan Joutopäivien aikaan Meijerinliiterissä nautiskellaan päiväkahvit Martti Servo & Moods-viihdeduon säestyksellä. Martin matineakonsertissa kuullaan Napander-klassikoita duo-versioina. Konsertin aikana voi nauttia kahvilan suolaisia ja makeita herkkuja\, kahvin\, oluen tai viinilasillisen kera. \nLiput: 10 euroa. KONSERTTI ON LOPPUUNVARATTU\, PERUUTUSPAIKKOJA VOI TIEDUSTELLA KAHVILASTA TAPAHTUMAPÄIVÄNÄ KLO 12 ETEENPÄIN.  \n*** \nCafé Meijerinliiterin Jäähuoneella kuullaan kesän aikana elävää musiikkia ”Suonteen Soitto” -tapahtumissa. Tunnelmalliset konsertit tarjoavat elämyksiä niin paikallisille\, kesäasukkaille kuin kauempaakin matkaaville kesävieraille. \nLippuja voi varata etukäteen kahvilasta\, osoitteesta: info@cafemeijerinliiteri.fi tai p. 050-5489428. Liput konsertteihin 10 euroa. Jäähuoneessa on anniskeluoikeudet. \nSuonteen Soitto -konserttisarja 2018: \n\n6.7 klo 13 Martti Servo & Moods\n3.8 klo 19 Jonna Tervomaa & Jussi Jaakonaho\n25.8 klo 19 Fadonkorjuu: Kirsi Poutanen & Esa Helasvuo\n8.9 klo 19 Liiteritango: Maija Sydänmaanlakka & Ystävät\n\n 
URL:https://www.cafemeijerinliiteri.fi/tapahtuma/konserttikesa-2018-heinakuun-ilmaismatinea/
LOCATION:Café Meijerinliiteri\, Kangasniementie 1052\, Joutsa\, 19650\, Finland
CATEGORIES:Konsertti
ATTACH;FMTTYPE=image/jpeg:https://www.cafemeijerinliiteri.fi/wp-content/uploads/2018/04/Martti-öljyvärinä.jpg
END:VEVENT
END:VCALENDAR